BEGIN:VCALENDAR
VERSION:2.0
PRODID:-//I&#039;m Just Me Movement - ECPv6.15.20//NONSGML v1.0//EN
CALSCALE:GREGORIAN
METHOD:PUBLISH
X-WR-CALNAME:I&#039;m Just Me Movement
X-ORIGINAL-URL:https://imjustmemovement.org
X-WR-CALDESC:Events for I&#039;m Just Me Movement
REFRESH-INTERVAL;VALUE=DURATION:PT1H
X-Robots-Tag:noindex
X-PUBLISHED-TTL:PT1H
BEGIN:VTIMEZONE
TZID:America/New_York
BEGIN:DAYLIGHT
TZOFFSETFROM:-0500
TZOFFSETTO:-0400
TZNAME:EDT
DTSTART:20240310T070000
END:DAYLIGHT
BEGIN:STANDARD
TZOFFSETFROM:-0400
TZOFFSETTO:-0500
TZNAME:EST
DTSTART:20241103T060000
END:STANDARD
BEGIN:DAYLIGHT
TZOFFSETFROM:-0500
TZOFFSETTO:-0400
TZNAME:EDT
DTSTART:20250309T070000
END:DAYLIGHT
BEGIN:STANDARD
TZOFFSETFROM:-0400
TZOFFSETTO:-0500
TZNAME:EST
DTSTART:20251102T060000
END:STANDARD
BEGIN:DAYLIGHT
TZOFFSETFROM:-0500
TZOFFSETTO:-0400
TZNAME:EDT
DTSTART:20260308T070000
END:DAYLIGHT
BEGIN:STANDARD
TZOFFSETFROM:-0400
TZOFFSETTO:-0500
TZNAME:EST
DTSTART:20261101T060000
END:STANDARD
END:VTIMEZONE
BEGIN:VEVENT
DTSTART;VALUE=DATE:20251011
DTEND;VALUE=DATE:20251012
DTSTAMP:20260423T114943
CREATED:20241108T154004Z
LAST-MODIFIED:20250328T211139Z
UID:169-1760140800-1760227199@imjustmemovement.org
SUMMARY:Trails 4 Miles Race for Autism
DESCRIPTION:Join us for our annual trail race\, and be ready for a challenge! This 6th annual race is a mixed-surface four mile race through the paved paths and wooded trails of Sherando Park.Whether you’re a seasoned runner or a beginner looking for a fun challenge\, this event offers a picturesque course through the beautiful landscapes of Sherando Park. Expect a thrilling experience as you navigate the park’s scenic trails\, enjoy the crisp fall air\, and embrace the vibrant autumn colors. It’s the perfect opportunity to test your endurance\, enjoy nature\, and join a community of fellow running enthusiasts. Proceeds from the race will benefit the I’m Just Me Movement. \nLearn More
URL:https://imjustmemovement.org/event/trails-4-miles-race-for-autism/
END:VEVENT
BEGIN:VEVENT
DTSTART;VALUE=DATE:20251001
DTEND;VALUE=DATE:20251101
DTSTAMP:20260423T114943
CREATED:20241108T152953Z
LAST-MODIFIED:20250328T210754Z
UID:163-1759276800-1761955199@imjustmemovement.org
SUMMARY:"I'm Just Me Because" Month
DESCRIPTION:October is I’m Just Me Because Month\, inviting all to express their individuality by promoting individual development\, creating environments that break down stereotypes\, and embracing who we really are. \nLearn More
URL:https://imjustmemovement.org/event/im-just-me-because-month/
END:VEVENT
BEGIN:VEVENT
DTSTART;VALUE=DATE:20250521
DTEND;VALUE=DATE:20250522
DTSTAMP:20260423T114943
CREATED:20250328T210837Z
LAST-MODIFIED:20250328T210837Z
UID:258-1747785600-1747871999@imjustmemovement.org
SUMMARY:Triumph Over Trauma Community Summit
DESCRIPTION:
URL:https://imjustmemovement.org/event/triumph-over-trauma-community-summit/
END:VEVENT
END:VCALENDAR